BEGIN:VCALENDAR
VERSION:2.0
BEGIN:VEVENT
CLASS:PUBLIC
CATEGORIES:MEETING
DTSTART;TZID=America/New_York:20251228T210000
DTEND;TZID=America/New_York:20251228T210000
SUMMARY:Spiros Soukis at Shrine World Music Venue
DESCRIPTION:Price: No Cover \nClick here to buy tickets: https://www.shrinenyc.com/calendar_main.php\nAge Limit: All Ages\n\nDetails: Rockin` Blues with Greek Soul !
LOCATION:Shrine World Music Venue - 2271 Adam Clayton Powell Jr Blvd, New York, NY, 10030, US
END:VEVENT

END:VCALENDAR
