BEGIN:VCALENDAR
VERSION:2.0
BEGIN:VEVENT
CLASS:PUBLIC
CATEGORIES:MEETING
DTSTART;TZID=America/Chicago:20260222T150000
DTEND;TZID=America/Chicago:20260222T150000
SUMMARY:Texas Flood at Dan's Silverleaf
DESCRIPTION:Click here to buy tickets: https://www.prekindle.com/promo/id/-2852852648721993272?fbclid=IwY2xjawOZx9BleHRuA2FlbQIxMABicmlkETFYOEVxNE1ONGVGcURWYjVwc3J0YwZhcHBfaWQQMjIyMDM5MTc4ODIwMDg5MgABHoDGVW5R9I1vLxoiHksFphrRWzbwTE8ji5_CT_F2D9bEBvfx1ISZtizwtSp__aem_lA1Qlkf6VEQFR4adEdwELQ\nAge Limit: All Ages
LOCATION:Dan's Silverleaf - 103 Industrial Street, Denton, TX, 76201, US
END:VEVENT

END:VCALENDAR
