BEGIN:VCALENDAR
VERSION:2.0
BEGIN:VEVENT
CLASS:PUBLIC
CATEGORIES:MEETING
DTSTART;TZID=America/Chicago:20260822T200000
DTEND;TZID=America/Chicago:20260822T200000
SUMMARY:Michael Charles at Down Under Bar & Grill
DESCRIPTION:Age Limit: All Ages\n\nDetails: Known for his expressive guitar work and blistering guitar solos, Blues Hall of Famer, Michael Charles, accompanied by a dynamic, well-rehearsed band, delivers a memorable, multi-genre performance of contemporary blues, blues-based rock and more.  Come out and experience Michael Charles live. The music, and the man, will leave an imprint on your soul.
LOCATION:Down Under Bar & Grill - 8350 Hickman Rd, Des Moines, IA, 50325, US
END:VEVENT

END:VCALENDAR
