BEGIN:VCALENDAR
VERSION:2.0
BEGIN:VEVENT
CLASS:PUBLIC
CATEGORIES:MEETING
DTSTART;TZID=Europe/London:20260618T120000
DTEND;TZID=Europe/London:20260618T120000
SUMMARY:BB BlackDog Steampunk Rock at The Sonic Rock Solstice
DESCRIPTION:Click here to buy tickets: https://www.sonicrocksolstice.com/about-1\nAge Limit: All Ages\n\nDetails: Thursday Night Headline of the 4 Day Festival, also on the Bill, The Lene Lovich Band, Punishment of Luxury, The Wattingers, Dr Hasbeen and Many More
LOCATION:The Sonic Rock Solstice - Stoke Prior, Sports and Country club,  Weston Hall Road,, Bromsgrove, B60 4AL, UK
END:VEVENT

END:VCALENDAR
