BEGIN:VCALENDAR
VERSION:2.0
BEGIN:VEVENT
CLASS:PUBLIC
CATEGORIES:MEETING
DTSTART;TZID=Europe/London:20251205T180000
DTEND;TZID=Europe/London:20251205T180000
SUMMARY:BB BlackDog Steampunk Rock at The King Arthur
DESCRIPTION:Click here to buy tickets: https://www.buytickets.at/electricsaladco\nAge Limit: All Ages\n\nDetails: Kozfest Xmas Party, with sons of Mu, Sonic Trip Project The Deviant Amps, Spiral Navigators and Many More over 3 Days, we&#39;re Playing the Friday Night :-) 
LOCATION:The King Arthur - Benedict St, Glastonbury, SOM, UK
END:VEVENT

END:VCALENDAR
