BEGIN:VCALENDAR
VERSION:2.0
BEGIN:VEVENT
CLASS:PUBLIC
CATEGORIES:MEETING
DTSTART;TZID=America/Montreal:20251213T200000
DTEND;TZID=America/Montreal:20251213T200000
SUMMARY:Marionnette Pointue at L'Orchestre Pointue, Martin Bernard et Marionnette Pointue Rockent la Cabane!
DESCRIPTION:Price: 25$ including xmas diner, 10$ show only in the building basement.\nAge Limit: All Ages\n\nDetails: We have been invited to entertain our local Golden Age Club for their xmas banquet! They are preparing a great xmas meal and we perform from 9pm to 1am. I&#39;ll also be launching the digital release from my brand new album in collaboration with Hilrant from Wales, UK: Forever Haunting your Heart. Love to you all!!
LOCATION:L'Orchestre Pointue, Martin Bernard et Marionnette Pointue Rockent la Cabane! - 1, rue Principale Ouest, Latulipe, QC, J0Z 2N0, CA
END:VEVENT

END:VCALENDAR
