BEGIN:VCALENDAR
VERSION:2.0
BEGIN:VEVENT
CLASS:PUBLIC
CATEGORIES:MEETING
DTSTART;TZID=America/Montreal:20251129T110000
DTEND;TZID=America/Montreal:20251129T110000
SUMMARY:Marionnette Pointue at IGD Culture Latulipe
DESCRIPTION:Price: Free\nAge Limit: All Ages\n\nDetails: I&#39;ll be performing new songs from my upcoming international collaboration album with Hilrant and music from my catalog. Starting at 2:22 pm. Love you all!!
LOCATION:IGD Culture Latulipe - 1 Rue Principale Ouest, Latulipe, QC, J0Z, CA
END:VEVENT

END:VCALENDAR
