BEGIN:VCALENDAR
VERSION:2.0
BEGIN:VEVENT
CLASS:PUBLIC
CATEGORIES:MEETING
DTSTART;TZID=America/New_York:20260523T190000
DTEND;TZID=America/New_York:20260523T190000
SUMMARY:Eleni Skiba at C. O'Brien's Ranch House
DESCRIPTION:Age Limit: All Ages\n\nDetails: Samantha Russell Duo
LOCATION:C. O'Brien's Ranch House - 2062 Palm Beach Lakes Blvd, West Palm Beach, FL, 33409, US
END:VEVENT

END:VCALENDAR
