BEGIN:VCALENDAR
VERSION:2.0
BEGIN:VEVENT
CLASS:PUBLIC
CATEGORIES:MEETING
DTSTART;TZID=America/Regina:20261002T190000
DTEND;TZID=America/Regina:20261002T190000
SUMMARY:Michael Charles at Pumpjacks Cathedral
DESCRIPTION:Age Limit: All Ages\n\nDetails: 2026 Tour
LOCATION:Pumpjacks Cathedral - 2062 Albert Street, Regina, SK, S4P, CA
END:VEVENT

END:VCALENDAR
