BEGIN:VCALENDAR
VERSION:2.0
BEGIN:VEVENT
CLASS:PUBLIC
CATEGORIES:MEETING
DTSTART;TZID=America/Chicago:20260226T130000
DTEND;TZID=America/Chicago:20260226T130000
SUMMARY:DANICA ~ Solo at Barry's Beach Bar
DESCRIPTION:Age Limit: All Ages
LOCATION:Barry's Beach Bar - 7010 Padre Blvd, South Padre Island, TX, 78597, US
END:VEVENT

END:VCALENDAR
