BEGIN:VCALENDAR
VERSION:2.0
BEGIN:VEVENT
CLASS:PUBLIC
CATEGORIES:MEETING
DTSTART;TZID=America/Regina:20260422T210000
DTEND;TZID=America/Regina:20260422T210000
SUMMARY:Michael Charles at Buds on Broadway
DESCRIPTION:Age Limit: 18+ or w/ adult\n\nDetails: 2026 Tour
LOCATION:Buds on Broadway - Saskatoon, SK, XXX XXX, CA
END:VEVENT

END:VCALENDAR
