BEGIN:VCALENDAR
VERSION:2.0
BEGIN:VEVENT
CLASS:PUBLIC
CATEGORIES:MEETING
DTSTART;TZID=America/Chicago:20261115T170000
DTEND;TZID=America/Chicago:20261115T170000
SUMMARY:Michael Charles at Byron's
DESCRIPTION:Age Limit: All Ages\n\nDetails: 2026 Tour
LOCATION:Byron's - Pomeroy, IA, US
END:VEVENT

END:VCALENDAR
