BEGIN:VCALENDAR
VERSION:2.0
BEGIN:VEVENT
CLASS:PUBLIC
CATEGORIES:MEETING
DTSTART;TZID=America/Chicago:20261026T190000
DTEND;TZID=America/Chicago:20261026T190000
SUMMARY:Michael Charles at The Alamo
DESCRIPTION:Age Limit: All Ages\n\nDetails: 2026 Tour
LOCATION:The Alamo - Springfield, IL, US
END:VEVENT

END:VCALENDAR
