BEGIN:VCALENDAR
VERSION:2.0
BEGIN:VEVENT
CLASS:PUBLIC
CATEGORIES:MEETING
DTSTART;TZID=America/Chicago:20261025T150000
DTEND;TZID=America/Chicago:20261025T150000
SUMMARY:Michael Charles at Pops Place
DESCRIPTION:Age Limit: All Ages\n\nDetails: 2026 Tour
LOCATION:Pops Place - 4335 West Main Street, Decatur, IL, 62522, US
END:VEVENT

END:VCALENDAR
