BEGIN:VCALENDAR
VERSION:2.0
BEGIN:VEVENT
CLASS:PUBLIC
CATEGORIES:MEETING
DTSTART;TZID=America/Chicago:20260821T190000
DTEND;TZID=America/Chicago:20260821T190000
SUMMARY:Michael Charles at The Bixler 108
DESCRIPTION:Age Limit: All Ages\n\nDetails: 2026 Tour
LOCATION:The Bixler 108 - 108 South 17th Street, Unionville, MO, 63565, US
END:VEVENT

END:VCALENDAR
