BEGIN:VCALENDAR
VERSION:2.0
BEGIN:VEVENT
CLASS:PUBLIC
CATEGORIES:MEETING
DTSTART;TZID=America/Chicago:20260820T180000
DTEND;TZID=America/Chicago:20260820T180000
SUMMARY:Michael Charles at The Depot Restaurant & Lounge
DESCRIPTION:Age Limit: All Ages\n\nDetails: 2026 Tour
LOCATION:The Depot Restaurant & Lounge - N Railroad St, Shenandoah, IA, 51601-1158, US
END:VEVENT

END:VCALENDAR
