BEGIN:VCALENDAR
VERSION:2.0
BEGIN:VEVENT
CLASS:PUBLIC
CATEGORIES:MEETING
DTSTART;TZID=America/Chicago:20260705T133000
DTEND;TZID=America/Chicago:20260705T133000
SUMMARY:Michael Charles at Massbach Ridge Winery
DESCRIPTION:Age Limit: All Ages\n\nDetails: 2026 Tour
LOCATION:Massbach Ridge Winery - 8837 South Massbach Road, Elizabeth, IL, 61028, US
END:VEVENT

END:VCALENDAR
