BEGIN:VCALENDAR
VERSION:2.0
BEGIN:VEVENT
CLASS:PUBLIC
CATEGORIES:MEETING
DTSTART;TZID=America/Chicago:20260615T190000
DTEND;TZID=America/Chicago:20260615T190000
SUMMARY:Michael Charles at Tall Ship Windy
DESCRIPTION:Age Limit: All Ages\n\nDetails: 2026 Tour
LOCATION:Tall Ship Windy - 600 E Grand Ave, Chicago, IL, 60611, US
END:VEVENT

END:VCALENDAR
