BEGIN:VCALENDAR
VERSION:2.0
BEGIN:VEVENT
CLASS:PUBLIC
CATEGORIES:MEETING
DTSTART;TZID=America/Chicago:20260607T170000
DTEND;TZID=America/Chicago:20260607T170000
SUMMARY:Michael Charles at Byron's
DESCRIPTION:Age Limit: All Ages\n\nDetails: 2026 Tour
LOCATION:Byron's - 112 South Main Street, Pomeroy, IA, 50575, US
END:VEVENT

END:VCALENDAR
