BEGIN:VCALENDAR
VERSION:2.0
BEGIN:VEVENT
CLASS:PUBLIC
CATEGORIES:MEETING
DTSTART;TZID=America/Chicago:20260531T140000
DTEND;TZID=America/Chicago:20260531T140000
SUMMARY:Michael Charles at Sunset Grill
DESCRIPTION:Age Limit: All Ages\n\nDetails: 2026 Tour
LOCATION:Sunset Grill - 25276 West Grass Lake Road, Antioch, IL, 60002, US
END:VEVENT

END:VCALENDAR
