BEGIN:VCALENDAR
VERSION:2.0
BEGIN:VEVENT
CLASS:PUBLIC
CATEGORIES:MEETING
DTSTART;TZID=America/Chicago:20260517T140000
DTEND;TZID=America/Chicago:20260517T140000
SUMMARY:Michael Charles at Sollitt Tap
DESCRIPTION:Age Limit: All Ages\n\nDetails: 2026 Tour
LOCATION:Sollitt Tap - N Sollitt Rd, Beecher, IL, 60401, US
END:VEVENT

END:VCALENDAR
