BEGIN:VCALENDAR
VERSION:2.0
BEGIN:VEVENT
CLASS:PUBLIC
CATEGORIES:MEETING
DTSTART;TZID=America/Edmonton:20260418T200000
DTEND;TZID=America/Edmonton:20260418T200000
SUMMARY:Michael Charles at Murph's Lounge
DESCRIPTION:Age Limit: All Ages\n\nDetails: 2026 Tour
LOCATION:Murph's Lounge - 5020 47 Ave, Red Deer, AB, T4N 1T7, CA
END:VEVENT

END:VCALENDAR
