BEGIN:VCALENDAR
VERSION:2.0
BEGIN:VEVENT
CLASS:PUBLIC
CATEGORIES:MEETING
DTSTART;TZID=America/Edmonton:20260417T190000
DTEND;TZID=America/Edmonton:20260417T190000
SUMMARY:Michael Charles at The Wagon Wheel
DESCRIPTION:Age Limit: All Ages\n\nDetails: 2026 Tour
LOCATION:The Wagon Wheel - 2110 19 Street, Nanton, AB, T0L, CA
END:VEVENT

END:VCALENDAR
