BEGIN:VCALENDAR
VERSION:2.0
BEGIN:VEVENT
CLASS:PUBLIC
CATEGORIES:MEETING
DTSTART;TZID=America/Edmonton:20260416T200000
DTEND;TZID=America/Edmonton:20260416T200000
SUMMARY:Michael Charles at The Slice
DESCRIPTION:Age Limit: All Ages\n\nDetails: 2026 Tour
LOCATION:The Slice - 314 8 Street South, Lethbridge, AB, T1J 2J6, CA
END:VEVENT

END:VCALENDAR
