BEGIN:VCALENDAR
VERSION:2.0
BEGIN:VEVENT
CLASS:PUBLIC
CATEGORIES:MEETING
DTSTART;TZID=America/Regina:20260411T200000
DTEND;TZID=America/Regina:20260411T200000
SUMMARY:Michael Charles at Bobby's Place Olde World Tavern
DESCRIPTION:Age Limit: All Ages\n\nDetails: 2026 Tour
LOCATION:Bobby's Place Olde World Tavern - 63 High Street West, Moose Jaw, SK, S6H 1S4, CA
END:VEVENT

END:VCALENDAR
