BEGIN:VCALENDAR
VERSION:2.0
BEGIN:VEVENT
CLASS:PUBLIC
CATEGORIES:MEETING
DTSTART;TZID=America/Los_Angeles:20260502T190000
DTEND;TZID=America/Los_Angeles:20260502T190000
SUMMARY:Silver Lining at J. King Neptune's Restaurant
DESCRIPTION:Price: Free\nAge Limit: All Ages\n\nDetails: Live Music 
LOCATION:J. King Neptune's Restaurant - 17115 Pacific Coast Highway, Huntington Beach, CA, 90742, US
END:VEVENT

END:VCALENDAR
