BEGIN:VCALENDAR
VERSION:2.0
BEGIN:VEVENT
CLASS:PUBLIC
CATEGORIES:MEETING
DTSTART;TZID=America/Los_Angeles:20250116T190000
DTEND;TZID=America/Los_Angeles:20250116T190000
SUMMARY:Silver Lining at Jimmy E's 
DESCRIPTION:Price: Free\nAge Limit: All Ages\n\nDetails: Live music 
LOCATION:Jimmy E's  - 2951 Cherry Ave, Signal Hill, CA, 90755, US
END:VEVENT

END:VCALENDAR
