BEGIN:VCALENDAR
VERSION:2.0
BEGIN:VEVENT
CLASS:PUBLIC
CATEGORIES:MEETING
DTSTART;TZID=America/Chicago:20260920T140000
DTEND;TZID=America/Chicago:20260920T140000
SUMMARY:The Sharks - Rebrand coming soon! at Sollitt Tap
DESCRIPTION:Age Limit: 21+
LOCATION:Sollitt Tap - N Sollitt Rd, Beecher, IL, 60401, US
END:VEVENT

END:VCALENDAR
