BEGIN:VCALENDAR
VERSION:2.0
BEGIN:VEVENT
CLASS:PUBLIC
CATEGORIES:MEETING
DTSTART;TZID=America/Chicago:20260301T170000
DTEND;TZID=America/Chicago:20260301T170000
SUMMARY:Michael Charles at Pops Place
DESCRIPTION:Age Limit: All Ages\n\nDetails: In 2026 Michael Charles is embarking on his 19th international tour, the “Where to Next 2026” tour. Known for his expressive guitar work and blistering guitar solos, Blues Hall of Famer, Michael Charles, accompanied by a dynamic, well-rehearsed band, delivers a memorable, multi-genre performance of contemporary blues, blues-based rock and more.  Come out and experience Michael Charles live. The music, and the man, will leave an imprint on your soul.
LOCATION:Pops Place - 4335 West Main Street, Decatur, IL, 62522, US
END:VEVENT

END:VCALENDAR
