BEGIN:VCALENDAR
VERSION:2.0
BEGIN:VEVENT
CLASS:PUBLIC
CATEGORIES:MEETING
DTSTART;TZID=America/New_York:20260328T200000
DTEND;TZID=America/New_York:20260328T200000
SUMMARY:LESSON ZERO at Afterlife 360
DESCRIPTION:Price: free\nAge Limit: All Ages\n\nDetails: Friendly venue, good food and drinks, no cover, plenty of parking, and way cool music from Oasis recording artist LESSON ZERO\nwww.youtube.com/lessonzero
LOCATION:Afterlife 360 - Manassas, VA, US
END:VEVENT

END:VCALENDAR
