BEGIN:VCALENDAR
VERSION:2.0
BEGIN:VEVENT
CLASS:PUBLIC
CATEGORIES:MEETING
DTSTART;TZID=America/Detroit:20251206T120000
DTEND;TZID=America/Detroit:20251206T120000
SUMMARY:Sweet Crystal at Freddy's Bar
DESCRIPTION:Price: 5.00\nAge Limit: All Ages\n\nDetails: Absolutely thrilled to be making our 7th appearance at this 2 day, 50+ bands extravaganza, all tailored to raise toys for the underprivileged children of SE Michigan thanks to the Goodfellows!\nWe are slated for Saturday 12/7/24 at 6:25 PM SHARP!!! but why not make it a day...heck a two day party for you and all your friends.\nCheck out the bands and more at:\nhttps://www.facebook.com/rock4tots\n\nFrom the hosts:\n“Rock-4-Tots” is the most magical, musical annual event of the year! Hosted by Screamin Scott, the event is packed with live music from your favorite Detroit musicians coming together to share in the spirit of the holidays &amp; raise toys and funds to help with the cause of &quot;No Child Without A Christmas&quot;. This event is enjoyable for the whole family with a visit with the big guy &quot;Santa&quot; himself from 1-4pm! There will also be plenty of raffles and 50/50 drawings.\nRock-4-Tots is supported by multiple volunteers bringing together an array of musicians throughout the Detroit area along with several local businesses to collect new unwrapped toys &amp; funds to support the Goodfellows “No Child Without a Christmas” yearly mission.\n\nAnd did we mention we will be debuting a brand new Crystalized version of a classic holiday song? That alone is worth the price of admission (which is a toy in case you forgot…).
LOCATION:Freddy's Bar - 40000 Garfield Road, Charter Township of Clinton, MI, 48038, US
END:VEVENT

END:VCALENDAR
