BEGIN:VCALENDAR
VERSION:2.0
BEGIN:VEVENT
CLASS:PUBLIC
CATEGORIES:MEETING
DTSTART;TZID=Europe/Amsterdam:20260425T193000
DTEND;TZID=Europe/Amsterdam:20260425T193000
SUMMARY:Nathan Bell at In the Woods
DESCRIPTION:Price: €20\nClick here to buy tickets: https://www.inthe woods.nl\nAge Limit: All Ages
LOCATION:In the Woods - 25 Bavoortseweg, Leusden, UT, 3833 BM, NL
END:VEVENT

END:VCALENDAR
