BEGIN:VCALENDAR
VERSION:2.0
BEGIN:VEVENT
CLASS:PUBLIC
CATEGORIES:MEETING
DTSTART;TZID=America/Chicago:20251115T210000
DTEND;TZID=America/Chicago:20251115T210000
SUMMARY:Brian Grace Music at Mama's P;lace
DESCRIPTION:Age Limit: All Ages\n\nDetails: Brian Grace will be at Mama&#39;s Place in Mexia on Saturday, November 15rh at 9 PM!
LOCATION:Mama's P;lace - 307 S Martin Luther King Jr Hwy, Mexia, TX, 76667, US
END:VEVENT

END:VCALENDAR
