BEGIN:VCALENDAR
VERSION:2.0
BEGIN:VEVENT
CLASS:PUBLIC
CATEGORIES:MEETING
DTSTART;TZID=America/New_York:20260520T170000
DTEND;TZID=America/New_York:20260520T170000
SUMMARY:Eleni Skiba at Skippers Cove Bar & Grill
DESCRIPTION:Age Limit: All Ages\n\nDetails: MizBehavin&#39;
LOCATION:Skippers Cove Bar & Grill - 1930 Harbortown Drive, Fort Pierce, FL, 34946, US
END:VEVENT

END:VCALENDAR
