BEGIN:VCALENDAR
VERSION:2.0
BEGIN:VEVENT
CLASS:PUBLIC
CATEGORIES:MEETING
DTSTART;TZID=America/Los_Angeles:20260423T123000
DTEND;TZID=America/Los_Angeles:20260423T123000
SUMMARY:Victorious Marcus at 🎆❤️🙏😀:OMG NOW IN PAID AFFILIATE OF 2000 TOP STORES 'Walmart' ,'Rayban ', Meta' 'Puma' ETC SHOP🎇
DESCRIPTION:Price: 10-100,000\nClick here to buy tickets: https://mave.ly/the-victorious-marcus-sho\nAge Limit: All Ages\n\nDetails: Hey hope alls well!  Let&#39;s Work🎇\n\n😱OMG😄 2000+TOP STORES NEW PAID PARTNER DEALS &#39;Meta&#39; &amp; &#39;Rayban&#39; AI Glasses/Shades Owner Multi Billionaire Mark Zuckerberg, &#39;Walmart&#39; partner @MrBeast Jimmy Donaldson #Feastibles &amp;Big TV, SuperStar Rihanna Billionaire &#39;Savage X Fenty&#39; Mens&amp;Women&#39;s Clothing, &#39;Virgin Atlantic&#39; Owned by Humble Billionaire Richard Branson, &#39;NBA Shop&#39; #BIGTIME &#39;Mavely&#39;. Thanks for invite! Shop TOP Stores Now @My Affiliate Link :)  https://mave.ly/the-victorious-marcus-shop NEXT GRAMMY EMMY EQUIVALENT WON TV RADIO SHOW &#39;The Victorious Marcus Show&#39; @BBS Radio TV! WORLD CHANGING NEWS COLLAB FT83GRAMMYS WON+PRINT MAGAZINE &#39;Rolling Stone Magazine&#39; PROD🎇Thanks NEW RECORD LABEL DEAL &#39;B&amp;R Music Group&#39; NEW TOUR IN PROD, TV SHOW FT@PAY PER VIEW, RADIO COMMERCIAL, MAGAZINE COVER FT, MY OWN MERCH TO SELL SOON🎇nexttorisetour.com lnkd.in/g_GZRMXb FROM HOMELESS/PREJUDICE/RACISM TO GRAMMY EMMY EQUIVALENT WON &#39;The Victorious Marcus Show&#39; WATCH MY FLIPS 31 +MILLION VIEWS/23BILLION VIEWS Est lnkd.in/gi--Kuuu Thanks Birthday Wishes by celebs, family &amp; friends aor my birthday June 8th😁My Next TV Radio Show Feats Block Buster Movie Actor Ashton Kutcher, Interviewed EMMY WINNER Jeff Warren ETC. PARTNER DEAL by Movie Actor Zachary Levi to &#39;Nerd HQ&#39; nerdhq.org Thank God🎇MY SHOW FT My GOLD/from Olympic Gymnastics Coach Bela Karoli Camp Award &quot;Most Outstanding Award&quot; Flips @12YO Besides being Former Jr Olympian Track went same Jr High School of MOST GRAMMYS Beyonce Knowles at &#39;Welch Middle School&#39; in Houston, TX🎇23BILLION VIEWS/15+YRS A LIST WORK FT MTV, DISNEY&#39;S &#39;The Hannah Montana Show&#39;, Commercials &#39;Hungry Man Dinners&#39;, Movies as &#39;The Hannah Movie&#39; FT GRAMMYS WON Miley Cyrus/Billy Raye Cyrus/Taylor Swift ETC*FT NETFLIX#1 &#39;Yes Day, FT GRAMMYS WON H.E.R., Movie In Prod. &#39;Apex&#39;ETC🎇439Channels; lnkd.in/gUtAH79v Universal Music Group+SPONSOR DEALS with &#39;Nbpure&#39; get yours today! nbpure.com/ TREAT OTHERS HOW YOU WANT TO BE TREATED. Judgement Day is COMING. 25AWARDS/DM Work/Sponsors/Investors ETC* &#39;The Victorious Marcus Show&#39; Every 2Wks &#39;The Victorious Marcus Show&#39; www.bbsradio.com/TheVictoriousMarcusShow reverbnation.com/VictoriousMarcus
LOCATION:🎆❤️🙏😀:OMG NOW IN PAID AFFILIATE OF 2000 TOP STORES 'Walmart' ,'Rayban ', Meta' 'Puma' ETC SHOP🎇 - WORLDWIDE, Los Angeles, CA, 90249, US
END:VEVENT

END:VCALENDAR
