BEGIN:VCALENDAR
VERSION:2.0
BEGIN:VEVENT
CLASS:PUBLIC
CATEGORIES:MEETING
DTSTART;TZID=America/New_York:20251123T170000
DTEND;TZID=America/New_York:20251123T170000
SUMMARY:Saved By Grace Band (SBG) at M Hotel
DESCRIPTION:Price: Good Will offering \nAge Limit: All Ages\n\nDetails: Sponsored by The Table Family Fellowship 
LOCATION:M Hotel - 2040 Walden Ave., Buffalo, NY, 14225, US
END:VEVENT

END:VCALENDAR
