BEGIN:VCALENDAR
VERSION:2.0
BEGIN:VEVENT
CLASS:PUBLIC
CATEGORIES:MEETING
DTSTART;TZID=America/New_York:20260131T200000
DTEND;TZID=America/New_York:20260131T200000
SUMMARY:LESSON ZERO at Evening Star Cafe
DESCRIPTION:Price: free\nAge Limit: All Ages\n\nDetails: Number 9 Lounge upstairs, great vibe, good food and drinks, street parking, friendly folks, no cover, and way cool music from Oasis recording artist LESSON ZERO\nSee www.youtube.com/lessonzero and www.reverbnation.com/lessonzero for more information
LOCATION:Evening Star Cafe - 2000 Mt Vernon Ave, Alexandria, VA, 22301-1310, US
END:VEVENT

END:VCALENDAR
