BEGIN:VCALENDAR
VERSION:2.0
BEGIN:VEVENT
CLASS:PUBLIC
CATEGORIES:MEETING
DTSTART;TZID=America/New_York:20261113T233000
DTEND;TZID=America/New_York:20261113T233000
SUMMARY:Joel Seaton at Preservation Pub (a 21 and up Venue)
DESCRIPTION:Age Limit: 21+\n\nDetails: With Soulfinger 
LOCATION:Preservation Pub (a 21 and up Venue) - 28 Market Square, Knoxville, TN, 37902, US
END:VEVENT

END:VCALENDAR
