BEGIN:VCALENDAR
VERSION:2.0
BEGIN:VEVENT
CLASS:PUBLIC
CATEGORIES:MEETING
DTSTART;TZID=Europe/London:20260610T200000
DTEND;TZID=Europe/London:20260610T200000
SUMMARY:Charlie Harper at John Peel Centre
DESCRIPTION:Age Limit: All Ages
LOCATION:John Peel Centre - Church Walk, Stowmarket, SFK, IP14 1ET, UK
END:VEVENT

END:VCALENDAR
