BEGIN:VCALENDAR
VERSION:2.0
BEGIN:VEVENT
CLASS:PUBLIC
CATEGORIES:MEETING
DTSTART;TZID=America/New_York:20260314T180000
DTEND;TZID=America/New_York:20260314T180000
SUMMARY:Cormorant's Fancy at Knights Of Columbus
DESCRIPTION:Age Limit: All Ages\n\nDetails: All your favorite Irish music and dance by Cormorant&#39;s Fancy plus extra-special local guests, featuring Irish step-dancers, pipes and percussion! Sparkling tunes and vibrant vocals will have you singing, clapping, and even dancing along! Your ticket covers the Irish-themed buffet dinner and desserts. The cash bar will feature many Irish favorites at very reasonable prices.
LOCATION:Knights Of Columbus - Catonsville, MD, US
END:VEVENT

END:VCALENDAR
