BEGIN:VCALENDAR
VERSION:2.0
BEGIN:VEVENT
CLASS:PUBLIC
CATEGORIES:MEETING
DTSTART;TZID=America/New_York:20260314T200000
DTEND;TZID=America/New_York:20260314T200000
SUMMARY:Cormorant's Fancy at Carroll Lutheran Village.
DESCRIPTION:Age Limit: All Ages\n\nDetails: This event is for residents and guests of Carroll Lutheran Village. All your favorite Irish music and dance by Cormorant&#39;s Fancy. Sparkling tunes and vibrant vocals will have you singing, clapping, and even dancing along! 
LOCATION:Carroll Lutheran Village. - 300 St. Luke Circle, Westminster, MD, 21158, US
END:VEVENT

END:VCALENDAR
