BEGIN:VCALENDAR
VERSION:2.0
BEGIN:VEVENT
CLASS:PUBLIC
CATEGORIES:MEETING
DTSTART;TZID=America/New_York:20260125T160000
DTEND;TZID=America/New_York:20260125T160000
SUMMARY:Cormorant's Fancy at Music, Gettysburg!
DESCRIPTION:Price: Free\nClick here to buy tickets: https://www.musicgettysburg.org\nAge Limit: All Ages\n\nDetails:  Music, Gettysburg celebrates the birthday of the national poet of Scotland with music and poetry, featuring Cormorant&#39;s Fancy and Jeffrey Greenawalt! Don’t miss the haggis and shortbread at the reception following the program! No admission charge. Free will donations received. The concert takes place in the ULS chapel, the Church of Abiding Presence, and the reception at the refectory directly across the street. Ample free parking.
LOCATION:Music, Gettysburg! - Gettysburg Seminary Chapel, Gettysburg, PA, 17325, US
END:VEVENT

END:VCALENDAR
