BEGIN:VCALENDAR
VERSION:2.0
BEGIN:VEVENT
CLASS:PUBLIC
CATEGORIES:MEETING
DTSTART;TZID=America/New_York:20260712T180000
DTEND;TZID=America/New_York:20260712T180000
SUMMARY:Dearest Home at Music, Gettysburg!
DESCRIPTION:Click here to buy tickets: https://www.musicgettysburg.org\nAge Limit: All Ages\n\nDetails: more details coming soon
LOCATION:Music, Gettysburg! - Gettysburg Seminary Chapel, Gettysburg, PA, 17325, US
END:VEVENT

END:VCALENDAR
