BEGIN:VCALENDAR
VERSION:2.0
BEGIN:VEVENT
CLASS:PUBLIC
CATEGORIES:MEETING
DTSTART;TZID=Europe/London:20251116T190000
DTEND;TZID=Europe/London:20251116T190000
SUMMARY:Small Days (Natalie Davis, and Dave Merrick) at The Old Picture House
DESCRIPTION:Price: $8 or £10\nClick here to buy tickets: https://dmerr9226@aol.com\nAge Limit: All Ages\n\nDetails: The Old Picture House will be open on Saturday and Sunday the 15 and 16th November for the Totterdown Arts Trail. There will be a bar, and music videos featuring Jazz music and Native American Flute music on the big screen. Entry will free during the day time on both days.\nThere will be a movie on Saturday and Sunday evening at 7-30pm for which there will be a charge of £10 or £8 (concession) The Movies will be: &quot;Kansas City&quot; Staring Harry Belafonte and &quot;Pete Kelly&#39;s Blues&quot; Starring Peggy Lee and Ella Fitzgerald., On Sunday at 2-00pm there will be a free concert of Classic Jazz and Blues from “Small Days”, Natalie Davis (Vocals) and Dave Merrick 
LOCATION:The Old Picture House - 7 Winton Street, Totterdown, Bristol, BS4 2DE, UK
END:VEVENT

END:VCALENDAR
