BEGIN:VCALENDAR
VERSION:2.0
BEGIN:VEVENT
CLASS:PUBLIC
CATEGORIES:MEETING
DTSTART;TZID=America/Chicago:20251219T200000
DTEND;TZID=America/Chicago:20251219T200000
SUMMARY:Brian Grace Music at Sweetwater Grill
DESCRIPTION:Age Limit: All Ages
LOCATION:Sweetwater Grill - 4884 State 276, Royse City, TX, 75189, US
END:VEVENT

END:VCALENDAR
