BEGIN:VCALENDAR
VERSION:2.0
BEGIN:VEVENT
CLASS:PUBLIC
CATEGORIES:MEETING
DTSTART;TZID=America/Chicago:20251206T200000
DTEND;TZID=America/Chicago:20251206T200000
SUMMARY:Brian Grace Music at CIty Limits Bar & Grill
DESCRIPTION:Age Limit: All Ages\n\nDetails: Brian Grace will be at City Limits in Milford on Saturday, December 6th at 8 PM!
LOCATION:CIty Limits Bar & Grill - 700 West Water, Milford, TX, 76670, US
END:VEVENT

END:VCALENDAR
