BEGIN:VCALENDAR
VERSION:2.0
BEGIN:VEVENT
CLASS:PUBLIC
CATEGORIES:MEETING
DTSTART:20251109T010000Z
DTEND:20251109T010000Z
SUMMARY:Brian Grace Music at Monkey Business
DESCRIPTION:Age Limit: All Ages
LOCATION:Monkey Business - Fm340, Terrell, TX, US
END:VEVENT

END:VCALENDAR
