BEGIN:VCALENDAR
VERSION:2.0
BEGIN:VEVENT
CLASS:PUBLIC
CATEGORIES:MEETING
DTSTART:20260503T230000Z
DTEND:20260503T230000Z
SUMMARY:Eleni Skiba at Private Event | Miz Behavin
DESCRIPTION:Age Limit: All Ages\n\nDetails: Miz Behavin&#39;
LOCATION:Private Event | Miz Behavin - Boca Raton, Boca Raton, FL, US
END:VEVENT

END:VCALENDAR
