BEGIN:VCALENDAR
VERSION:2.0
BEGIN:VEVENT
CLASS:PUBLIC
CATEGORIES:MEETING
DTSTART;TZID=America/New_York:20260328T203000
DTEND;TZID=America/New_York:20260328T203000
SUMMARY:Eleni Skiba at Biergarten
DESCRIPTION:Age Limit: All Ages\n\nDetails: Miz Behavin&#39;
LOCATION:Biergarten - Boca Raton, FL, US
END:VEVENT

END:VCALENDAR
