BEGIN:VCALENDAR
VERSION:2.0
BEGIN:VEVENT
CLASS:PUBLIC
CATEGORIES:MEETING
DTSTART;TZID=America/New_York:20260418T110000
DTEND;TZID=America/New_York:20260418T110000
SUMMARY:Eleni Skiba at Delray Greenmarket
DESCRIPTION:Age Limit: All Ages\n\nDetails: Samantha Russell Duo
LOCATION:Delray Greenmarket - downtown delray beach, Delray Beach, FL, 33483, US
END:VEVENT

END:VCALENDAR
